BEGIN:VCALENDAR
PRODID:-//nuDatenautomaten//framework iCal4j //DE
VERSION:2.0
CALSCALE:GREGORIAN
BEGIN:VTIMEZONE
TZID:Europe/Berlin
LAST-MODIFIED:20260306T231828Z
TZURL:https://www.tzurl.org/zoneinfo/Europe/Berlin
X-LIC-LOCATION:Europe/Berlin
X-PROLEPTIC-TZNAME:LMT
BEGIN:STANDARD
TZNAME:CET
TZOFFSETFROM:+005328
TZOFFSETTO:+0100
DTSTART:18930401T000000
END:STANDARD
BEGIN:DAYLIGHT
TZNAME:CEST
TZOFFSETFROM:+0100
TZOFFSETTO:+0200
DTSTART:19160430T230000
RDATE:19400401T020000
RDATE:19430329T020000
RDATE:19460414T020000
RDATE:19470406T030000
RDATE:19480418T020000
RDATE:19490410T020000
RDATE:19800406T020000
END:DAYLIGHT
BEGIN:STANDARD
TZNAME:CET
TZOFFSETFROM:+0200
TZOFFSETTO:+0100
DTSTART:19161001T010000
RDATE:19421102T030000
RDATE:19431004T030000
RDATE:19441002T030000
RDATE:19451118T030000
RDATE:19461007T030000
END:STANDARD
BEGIN:DAYLIGHT
TZNAME:CEST
TZOFFSETFROM:+0100
TZOFFSETTO:+0200
DTSTART:19170416T020000
RRULE:FREQ=YEARLY;UNTIL=19180415T010000Z;BYMONTH=4;BYDAY=3MO
END:DAYLIGHT
BEGIN:STANDARD
TZNAME:CET
TZOFFSETFROM:+0200
TZOFFSETTO:+0100
DTSTART:19170917T030000
RRULE:FREQ=YEARLY;UNTIL=19180916T010000Z;BYMONTH=9;BYDAY=3MO
END:STANDARD
BEGIN:DAYLIGHT
TZNAME:CEST
TZOFFSETFROM:+0100
TZOFFSETTO:+0200
DTSTART:19440403T020000
RRULE:FREQ=YEARLY;UNTIL=19450402T010000Z;BYMONTH=4;BYDAY=1MO
END:DAYLIGHT
BEGIN:DAYLIGHT
TZNAME:CEMT
TZOFFSETFROM:+0200
TZOFFSETTO:+0300
DTSTART:19450524T020000
RDATE:19470511T030000
END:DAYLIGHT
BEGIN:DAYLIGHT
TZNAME:CEST
TZOFFSETFROM:+0300
TZOFFSETTO:+0200
DTSTART:19450924T030000
RDATE:19470629T030000
END:DAYLIGHT
BEGIN:STANDARD
TZNAME:CET
TZOFFSETFROM:+0100
TZOFFSETTO:+0100
DTSTART:19460101T000000
RDATE:19800101T000000
END:STANDARD
BEGIN:STANDARD
TZNAME:CET
TZOFFSETFROM:+0200
TZOFFSETTO:+0100
DTSTART:19471005T030000
RRULE:FREQ=YEARLY;UNTIL=19491002T010000Z;BYMONTH=10;BYDAY=1SU
END:STANDARD
BEGIN:STANDARD
TZNAME:CET
TZOFFSETFROM:+0200
TZOFFSETTO:+0100
DTSTART:19800928T030000
RRULE:FREQ=YEARLY;UNTIL=19950924T010000Z;BYMONTH=9;BYDAY=-1SU
END:STANDARD
BEGIN:DAYLIGHT
TZNAME:CEST
TZOFFSETFROM:+0100
TZOFFSETTO:+0200
DTSTART:19810329T020000
RRULE:FREQ=YEARLY;BYMONTH=3;BYDAY=-1SU
END:DAYLIGHT
BEGIN:STANDARD
TZNAME:CET
TZOFFSETFROM:+0200
TZOFFSETTO:+0100
DTSTART:19961027T030000
RRULE:FREQ=YEARLY;BYMONTH=10;BYDAY=-1SU
END:STANDARD
END:VTIMEZONE
BEGIN:VEVENT
DTSTAMP:20260420T181338Z
DTSTART;TZID=Europe/Berlin:20260214T190000
DTEND;TZID=Europe/Berlin:20260214T213000
SUMMARY:5. Bezirksliga 5 DC Phantom's VII vs DC Power Flight's  IV (10)
UID:9add5b7f-e38f-4ea8-b536-c641d9355446
STATUS:CONFIRMED
LAST-MODIFIED:20260215T084340Z
DESCRIPTION:5. Bezirksliga 5 Niederbayern\nBegegnungs-Nr: 10\nHeim: DC Phantom's VII\nGast: DC Power Flight's  IV\nHalle: Gasthaus Proske (09010350)\nAdresse: Weidenstr. 2\, 84030 Ergolding\n
LOCATION:Gasthaus Proske (09010350): Weidenstr. 2\, 84030 Ergolding
CATEGORIES:Saison 2025/26
END:VEVENT
BEGIN:VEVENT
DTSTAMP:20260420T181338Z
DTSTART;TZID=Europe/Berlin:20260502T190000
DTEND;TZID=Europe/Berlin:20260502T213000
SUMMARY:5. Bezirksliga 5 DC Phantom's VII vs DC Bavaria Gladiators II (28)
UID:98b016f9-8779-45fd-ba67-3035f0bafd7e
STATUS:CONFIRMED
DESCRIPTION:5. Bezirksliga 5 Niederbayern\nBegegnungs-Nr: 28\nHeim: DC Phantom's VII\nGast: DC Bavaria Gladiators II\nHalle: Gasthaus Proske (09010350)\nAdresse: Weidenstr. 2\, 84030 Ergolding\n
LOCATION:Gasthaus Proske (09010350): Weidenstr. 2\, 84030 Ergolding
CATEGORIES:Saison 2025/26
END:VEVENT
BEGIN:VEVENT
DTSTAMP:20260420T181338Z
DTSTART;TZID=Europe/Berlin:20260228T190000
DTEND;TZID=Europe/Berlin:20260228T213000
SUMMARY:5. Bezirksliga 5 DC Phantom's VII vs SV Schwindegg  II (15)
UID:25960e22-d1e6-4878-8051-6e5b7777d305
STATUS:CONFIRMED
LAST-MODIFIED:20260301T145757Z
DESCRIPTION:5. Bezirksliga 5 Niederbayern\nBegegnungs-Nr: 15\nHeim: DC Phantom's VII\nGast: SV Schwindegg  II\nHalle: Gasthaus Proske (09010350)\nAdresse: Weidenstr. 2\, 84030 Ergolding\n
LOCATION:Gasthaus Proske (09010350): Weidenstr. 2\, 84030 Ergolding
CATEGORIES:Saison 2025/26
END:VEVENT
BEGIN:VEVENT
DTSTAMP:20260420T181338Z
DTSTART;TZID=Europe/Berlin:20260404T190000
DTEND;TZID=Europe/Berlin:20260404T213000
SUMMARY:5. Bezirksliga 5 DC Phantom's VII vs DC Power Flight's  V (22)
UID:153a2891-e972-45f5-9477-62cc1fef1bcc
STATUS:CONFIRMED
LAST-MODIFIED:20260405T064206Z
DESCRIPTION:5. Bezirksliga 5 Niederbayern\nBegegnungs-Nr: 22\nHeim: DC Phantom's VII\nGast: DC Power Flight's  V\nHalle: Gasthaus Proske (09010350)\nAdresse: Weidenstr. 2\, 84030 Ergolding\n
LOCATION:Gasthaus Proske (09010350): Weidenstr. 2\, 84030 Ergolding
CATEGORIES:Saison 2025/26
END:VEVENT
BEGIN:VEVENT
DTSTAMP:20260420T181338Z
DTSTART;TZID=Europe/Berlin:20250906T190000
DTEND;TZID=Europe/Berlin:20250906T213000
SUMMARY:5. Bezirksliga 5 DC Phantom's VII vs DC Phantom's VIII (1)
UID:066f9dcf-2a1e-4105-a2e8-1b91d7a2a851
STATUS:CONFIRMED
LAST-MODIFIED:20251002T133601Z
DESCRIPTION:5. Bezirksliga 5 Niederbayern\nBegegnungs-Nr: 1\nHeim: DC Phantom's VII\nGast: DC Phantom's VIII\nHalle: Gasthaus Proske (09010350)\nAdresse: Weidenstr. 2\, 84030 Ergolding\n
LOCATION:Gasthaus Proske (09010350): Weidenstr. 2\, 84030 Ergolding
CATEGORIES:Saison 2025/26
END:VEVENT
BEGIN:VEVENT
DTSTAMP:20260420T181338Z
DTSTART;TZID=Europe/Berlin:20250927T200000
DTEND;TZID=Europe/Berlin:20250927T223000
SUMMARY:5. Bezirksliga 5 DC Phantom's VII vs DC Bavaria Gladiators (8)
UID:b71c7cf7-ce52-44cb-8596-18de74e1552b
STATUS:CONFIRMED
LAST-MODIFIED:20250928T143419Z
DESCRIPTION:5. Bezirksliga 5 Niederbayern\nBegegnungs-Nr: 8\nHeim: DC Phantom's VII\nGast: DC Bavaria Gladiators\nHalle: Gasthaus Proske (09010350)\nAdresse: Weidenstr. 2\, 84030 Ergolding\n
LOCATION:Gasthaus Proske (09010350): Weidenstr. 2\, 84030 Ergolding
CATEGORIES:Saison 2025/26
END:VEVENT
BEGIN:VEVENT
DTSTAMP:20260420T181338Z
DTSTART;TZID=Europe/Berlin:20251122T190000
DTEND;TZID=Europe/Berlin:20251122T213000
SUMMARY:5. Bezirksliga 5 DC Phantom's VII vs Vilstal Devils III (19)
UID:66831a80-5ce3-4599-8cb5-3cd5785cfb04
STATUS:CONFIRMED
LAST-MODIFIED:20251123T105617Z
DESCRIPTION:5. Bezirksliga 5 Niederbayern\nBegegnungs-Nr: 19\nHeim: DC Phantom's VII\nGast: Vilstal Devils III\nHalle: Gasthaus Proske (09010350)\nAdresse: Weidenstr. 2\, 84030 Ergolding\n
LOCATION:Gasthaus Proske (09010350): Weidenstr. 2\, 84030 Ergolding
CATEGORIES:Saison 2025/26
END:VEVENT
BEGIN:VEVENT
DTSTAMP:20260420T181338Z
DTSTART;TZID=Europe/Berlin:20260131T190000
DTEND;TZID=Europe/Berlin:20260131T213000
SUMMARY:5. Bezirksliga 5 DC Bavaria Gladiators vs DC Phantom's VII (8)
UID:ac94e358-6c2a-4386-a208-25e346e37770
STATUS:CONFIRMED
LAST-MODIFIED:20260202T125347Z
DESCRIPTION:5. Bezirksliga 5 Niederbayern\nBegegnungs-Nr: 8\nHeim: DC Bavaria Gladiators\nGast: DC Phantom's VII\nHalle: Poseidon (09010886)\nAdresse: Kirchstr. 9\, 84144 Geisenhausen\n
LOCATION:Poseidon (09010886): Kirchstr. 9\, 84144 Geisenhausen
CATEGORIES:Saison 2025/26
END:VEVENT
BEGIN:VEVENT
DTSTAMP:20260420T181338Z
DTSTART;TZID=Europe/Berlin:20260321T190000
DTEND;TZID=Europe/Berlin:20260321T213000
SUMMARY:5. Bezirksliga 5 Vilstal Devils III vs DC Phantom's VII (19)
UID:0c731197-f39a-44c3-b6af-6b5526bacd1f
STATUS:CONFIRMED
LAST-MODIFIED:20260322T091358Z
DESCRIPTION:5. Bezirksliga 5 Niederbayern\nBegegnungs-Nr: 19\nHeim: Vilstal Devils III\nGast: DC Phantom's VII\nHalle: Gasthaus \"Feuchtes Eck\" (09010230)\nAdresse: Seyboldsdorfer Str. 32\, 84137 Vilsbiburg\n
LOCATION:Gasthaus \"Feuchtes Eck\" (09010230): Seyboldsdorfer Str. 32\, 84137 Vilsbiburg
CATEGORIES:Saison 2025/26
END:VEVENT
BEGIN:VEVENT
DTSTAMP:20260420T181338Z
DTSTART;TZID=Europe/Berlin:20251018T190000
DTEND;TZID=Europe/Berlin:20251018T213000
SUMMARY:5. Bezirksliga 5 DC Power Flight's  IV vs DC Phantom's VII (10)
UID:081000df-7f3f-419c-aeb2-ab897286432f
STATUS:CONFIRMED
LAST-MODIFIED:20251019T081134Z
DESCRIPTION:5. Bezirksliga 5 Niederbayern\nBegegnungs-Nr: 10\nHeim: DC Power Flight's  IV\nGast: DC Phantom's VII\nHalle: Hoamat Wirt (09010200)\nAdresse: Buchenstr. 5\, 84155 Bodenkirchen\n
LOCATION:Hoamat Wirt (09010200): Buchenstr. 5\, 84155 Bodenkirchen
CATEGORIES:Saison 2025/26
END:VEVENT
BEGIN:VEVENT
DTSTAMP:20260420T181338Z
DTSTART;TZID=Europe/Berlin:20251025T190000
DTEND;TZID=Europe/Berlin:20251025T213000
SUMMARY:5. Bezirksliga 5 DC Bavaria Gladiators II vs DC Phantom's VII (28)
UID:f5565830-d8c4-46b5-bf0b-35720dcbb0d5
STATUS:CONFIRMED
LAST-MODIFIED:20251026T090450Z
DESCRIPTION:5. Bezirksliga 5 Niederbayern\nBegegnungs-Nr: 28\nHeim: DC Bavaria Gladiators II\nGast: DC Phantom's VII\nHalle: Poseidon (09010886)\nAdresse: Kirchstr. 9\, 84144 Geisenhausen\n
LOCATION:Poseidon (09010886): Kirchstr. 9\, 84144 Geisenhausen
CATEGORIES:Saison 2025/26
END:VEVENT
BEGIN:VEVENT
DTSTAMP:20260420T181338Z
DTSTART;TZID=Europe/Berlin:20251108T190000
DTEND;TZID=Europe/Berlin:20251108T213000
SUMMARY:5. Bezirksliga 5 SV Schwindegg  II vs DC Phantom's VII (15)
UID:6acabc93-0ee0-4cf6-a318-7c050d04c988
STATUS:CONFIRMED
LAST-MODIFIED:20251109T113244Z
DESCRIPTION:5. Bezirksliga 5 Niederbayern\nBegegnungs-Nr: 15\nHeim: SV Schwindegg  II\nGast: DC Phantom's VII\nHalle: SV Schwindegg (09010890)\nAdresse: Rohrmühle 2 \, 84419 Schwindegg\n
LOCATION:SV Schwindegg (09010890): Rohrmühle 2 \, 84419 Schwindegg
CATEGORIES:Saison 2025/26
END:VEVENT
BEGIN:VEVENT
DTSTAMP:20260420T181338Z
DTSTART;TZID=Europe/Berlin:20251206T190000
DTEND;TZID=Europe/Berlin:20251206T213000
SUMMARY:5. Bezirksliga 5 DC Power Flight's  V vs DC Phantom's VII (22)
UID:068032bb-a6cd-4db9-a918-b9ff1ea90f66
STATUS:CONFIRMED
LAST-MODIFIED:20251207T143925Z
DESCRIPTION:5. Bezirksliga 5 Niederbayern\nBegegnungs-Nr: 22\nHeim: DC Power Flight's  V\nGast: DC Phantom's VII\nHalle: Hoamat Wirt (09010200)\nAdresse: Buchenstr. 5\, 84155 Bodenkirchen\n
LOCATION:Hoamat Wirt (09010200): Buchenstr. 5\, 84155 Bodenkirchen
CATEGORIES:Saison 2025/26
END:VEVENT
BEGIN:VEVENT
DTSTAMP:20260420T181338Z
DTSTART;TZID=Europe/Berlin:20260110T190000
DTEND;TZID=Europe/Berlin:20260110T213000
SUMMARY:5. Bezirksliga 5 DC Phantom's VIII vs DC Phantom's VII (1)
UID:669764d3-380a-46ff-9ea1-e5f12adf1cb5
STATUS:CONFIRMED
LAST-MODIFIED:20260111T155107Z
DESCRIPTION:5. Bezirksliga 5 Niederbayern\nBegegnungs-Nr: 1\nHeim: DC Phantom's VIII\nGast: DC Phantom's VII\nHalle: Gasthaus Proske (09010350)\nAdresse: Weidenstr. 2\, 84030 Ergolding\n
LOCATION:Gasthaus Proske (09010350): Weidenstr. 2\, 84030 Ergolding
CATEGORIES:Saison 2025/26
END:VEVENT
END:VCALENDAR
